Workbook

Sheet مرداد
A2: ليست حقوق كاركنان شرکت ابتکار توس در ماه مرداد 1394 | N2: پرداختی ها | AB2: کسورات | AL2: خالص پرداختی | AM2: حقوق واریزی | AN2: کسری یا اضافی
A3: رديف | B3: نام پرسنل | C3: نام خانوادگي | D3: سمت | E3: نام و نام خاانوادگي | F3: روزهاي كاركرد | G3: ساعات اضافه كار | H3: مرخصی استفاده شده این ماه | I3: مانده مرخصی تا پایان این ماه | J3: ساعات کسر کار | K3: ماموریت روزانه | L3: غیبت به دقیقه | M3: تعداد فرزند | N3: پايه حقوق روزانه | O3: حقوق ماهیانه | P3: حق مسكن | Q3: حق بن کارگری | R3: حق اولاد | S3: حق ماموریت | T3: سایر مزایای حقوقی | U3: مبلغ اضافه كار | V3: تشویقی | W3: حق ایاب و ذهاب | X3: طلب حقوق از ماه قبل | Y3: عیدی و پاداش | Z3: سنوات | AA3: جمع کل پرداختی | AB3: بدهی حقوق از ماه قبل | AC3: کسر از حقوق برای نهار | AD3: کسر کار | AE3: مساعده | AF3: بيمه سهم كارگر | AG3: جریمه | AH3: ماليات حقوق | AI3: غیبت | AJ3: اقساط این ماه وام شرکت | AK3: مانده وام شرکت تاکنون | AL3: جمع خالص پرداختی
A4: 1 | B4: سعید | C4: فروزانفر | D4: مدیر فروش | E4: سعید فروزانفر | F4: 31 | M4: 0 | N4: 237475 | P4: =(200000/31)*F4 -> 200000 | Q4: =(1100000/31)*F4 -> 1100000 | R4: =(((N4*3)*M4)/31)*F4 -> 0 | S4: =2*N4*K4 -> 0 | T4: =(31944596/31)*F4 -> 31944596 | U4: =N4/7.33*G4*1.4 -> 0 | AA4: =(SUM(P4:X4))+(N4*F4)+(SUM(Y4:Z4)) -> 40606321 | AD4: =(N4/7.33)*J4 -> 0 | AE4: 12801720 | AF4: =(N4*F4+P4+Q4)*0.07 -> 606320.75 | AH4: 0 | AL4: =AA4-(SUM(AB4:AJ4)) -> 27198280 | AM4: ='واريز مرحله اول'!C7 -> 25000000 | AN4: =AL4-AM4 -> 2198280.2
A5: 2 | B5: وحید | C5: فروزانفر | D5: مدیر تولید | E5: وحید فروزانفر | F5: 31 | M5: 0 | N5: 237475 | P5: =(200000/31)*F5 -> 200000 | Q5: =(1100000/31)*F5 -> 1100000 | R5: =(((N5*3)*M5)/31)*F5 -> 0 | S5: =2*N5*K5 -> 0 | T5: =(31944596/31)*F5 -> 31944596 | U5: =N5/7.33*G5*1.4 -> 0 | AA5: =(SUM(P5:X5))+(N5*F5)+(SUM(Y5:Z5)) -> 40606321 | AD5: =(N5/7.33)*J5 -> 0 | AF5: =(N5*F5+P5+Q5)*0.07 -> 606320.75 | AH5: 0 | AL5: =AA5-(SUM(AB5:AJ5)) -> 40000000 | AM5: ='واريز مرحله اول'!C8 -> 40000000 | AN5: =AL5-AM5 -> 0.25
A6: 3 | B6: رضا | C6: فروزانفر | D6: مدیر مهندسی | E6: رضا فروزانفر | F6: 31 | M6: 2 | N6: 237475 | P6: =(200000/31)*F6 -> 200000 | Q6: =(1100000/31)*F6 -> 1100000 | R6: =(((N6*3)*M6)/31)*F6 -> 1424850 | S6: =2*N6*K6 -> 0 | T6: =(30519746/31)*F6 -> 30519746 | U6: =N6/7.33*G6*1.4 -> 0 | AA6: =(SUM(P6:X6))+(N6*F6)+(SUM(Y6:Z6)) -> 40606321 | AD6: =(N6/7.33)*J6 -> 0 | AF6: =(N6*F6+P6+Q6)*0.07 -> 606320.75 | AH6: 0 | AL6: =AA6-(SUM(AB6:AJ6)) -> 40000000 | AM6: ='واريز مرحله اول'!C9 -> 0 | AN6: =AL6-AM6 -> 40000000
A7: 4 | B7: روح الله | C7: نوروزیان | D7: جوشكار | E7: روح الله نوروزیان | F7: 31 | G7: 65.5 | J7: 1.5 | L7: 210 | M7: 2 | N7: 237475 | O7: =F7*N7 -> 7361725 | P7: =(200000/31)*F7 -> 200000 | Q7: =(1100000/31)*F7 -> 1100000 | R7: =(((N7*3)*M7)/31)*F7 -> 1424850 | S7: =2*N7*K7 -> 0 | T7: 2000000 | U7: =N7/7.33*G7*1.4 -> 2970867.3 | AA7: =(SUM(P7:X7))+(N7*F7)+(SUM(Y7:Z7)) -> 15057442 | AD7: =(N7/7.33)*J7 -> 48596.521 | AE7: 12500000 | AF7: =(N7*F7+P7+Q7)*0.07 -> 606320.75 | AH7: =IF(AA7-X7<11500000,0,((AA7-X7)-11500000)*10%) -> 355744.23 | AI7: =((N7/440)*3)*L7 -> 340021.02 | AL7: =AA7-(SUM(AB7:AJ7)) -> 1206759.8 | AM7: ='واريز مرحله اول'!C10 -> 1200000 | AN7: =AL7-AM7 -> 6759.7996
A8: 5 | B8: مهدی | C8: شمشیری | D8: مونتاژ کار | E8: مهدی شمشیری | F8: 31 | G8: 86.5 | J8: 1 | L8: 60 | M8: 0 | N8: 237475 | O8: =F8*N8 -> 7361725 | P8: =(200000/31)*F8 -> 200000 | Q8: =(1100000/31)*F8 -> 1100000 | R8: =(((N8*3)*M8)/31)*F8 -> 0 | S8: =2*N8*K8 -> 0 | T8: 2000000 | U8: =N8/7.33*G8*1.4 -> 3923359.1 | X8: =7000000+1702000 -> 8702000 | AA8: =(SUM(P8:X8))+(N8*F8)+(SUM(Y8:Z8)) -> 23287084 | AD8: =(N8/7.33)*J8 -> 32397.681 | AE8: 10000000 | AF8: =(N8*F8+P8+Q8)*0.07 -> 606320.75 | AH8: =IF(AA8-X8<11500000,0,((AA8-X8)-11500000)*10%) -> 308508.41 | AI8: =((N8/440)*3)*L8 -> 97148.864 | AL8: =AA8-(SUM(AB8:AJ8)) -> 12242708 | AM8: ='واريز مرحله اول'!C11 -> 13230000 | AN8: =AL8-AM8 -> -987291.57
A9: 6 | B9: محسن | C9: شيشه چي | D9: برق كار | E9: محسن شيشه چي | F9: 31 | G9: 18 | J9: 2 | M9: 0 | N9: 237475 | O9: =F9*N9 -> 7361725 | P9: =(200000/31)*F9 -> 200000 | Q9: =(1100000/31)*F9 -> 1100000 | R9: =(((N9*3)*M9)/31)*F9 -> 0 | S9: =2*N9*K9 -> 0 | T9: =(3944596/31)*F9 -> 3944596 | U9: =N9/7.33*G9*1.4 -> 816421.56 | AA9: =(SUM(P9:X9))+(N9*F9)+(SUM(Y9:Z9)) -> 13422743 | AD9: =(N9/7.33)*J9 -> 64795.362 | AE9: 0 | AF9: =(N9*F9+P9+Q9)*0.07 -> 606320.75 | AI9: =((N9/440)*3)*L9 -> 0 | AL9: =AA9-(SUM(AB9:AJ9)) -> 12751626 | AM9: ='واريز مرحله اول'!C12 -> 12750000 | AN9: =AL9-AM9 -> 1626.4437
A10: 7 | B10: مجتبي | C10: منبتي | D10: حسابدار | E10: مجتبي منبتي | F10: 31 | N10: 237475 | O10: =F10*N10 -> 7361725 | P10: =(200000/31)*F10 -> 200000 | Q10: =(1100000/31)*F10 -> 1100000 | R10: =(((N10*3)*M10)/31)*F10 -> 0 | S10: =2*N10*K10 -> 0 | T10: =(6944596/31)*F10 -> 6944596 | U10: =N10/7.33*G10*1.4 -> 0 | AA10: =(SUM(P10:X10))+(N10*F10)+(SUM(Y10:Z10)) -> 15606321 | AD10: =(N10/7.33)*J10 -> 0 | AE10: 0 | AF10: =(N10*F10+P10+Q10)*0.07 -> 606320.75 | AI10: =((N10/440)*3)*L10 -> 0 | AL10: =AA10-(SUM(AB10:AJ10)) -> 15000000 | AM10: ='واريز مرحله اول'!C13 -> 15000000 | AN10: =AL10-AM10 -> 0.25
A11: 8 | B11: مريم | C11: محسني | D11: بازارياب | E11: مريم محسني | F11: 31 | N11: 237475 | O11: =F11*N11 -> 7361725 | P11: =(200000/31)*F11 -> 200000 | Q11: =(1100000/31)*F11 -> 1100000 | R11: =(((N11*3)*M11)/31)*F11 -> 0 | S11: =2*N11*K11 -> 0 | T11: 444596 | U11: =N11/7.33*G11*1.4 -> 0 | AA11: =(SUM(P11:X11))+(N11*F11)+(SUM(Y11:Z11)) -> 9106321 | AD11: =(N11/7.33)*J11 -> 0 | AE11: 1000000 | AF11: =(N11*F11+P11+Q11)*0.07 -> 606320.75 | AH11: =IF(AA11-X11<11500000,0,((AA11-X11)-11500000)*10%) -> 0 | AJ11: 1000000 | AK11: 3000000 | AL11: =AA11-(SUM(AB11:AJ11)) -> 6500000.2 | AM11: ='واريز مرحله اول'!C14 -> 6500000 | AN11: =AL11-AM11 -> 0.25
A12: 9 | B12: علي | C12: غلام زاده | D12: كارگر توليد | E12: علي غلام زاده | F12: 31 | G12: 53 | J12: 0.5 | L12: 1060 | M12: 1 | N12: 385000 | O12: =F12*N12 -> 11935000 | P12: =(200000/31)*F12 -> 200000 | Q12: =(1100000/31)*F12 -> 1100000 | R12: =(((237475*3)*M12)/31)*F12 -> 712425 | U12: =N12/7.33*G12*1.4 -> 3897271.5 | X12: 6772500 | AA12: =(SUM(P12:X12))+(N12*F12)+(SUM(Y12:Z12)) -> 24617196 | AC12: 0 | AD12: =(N12/7.33)*J12 -> 26261.937 | AE12: 5000000 | AF12: =(N12*F12+P12+Q12)*0.07 -> 926450 | AH12: =IF(AA12-X12<11500000,0,((AA12-X12)-11500000)*10%) -> 634469.65 | AI12: =((N12/440)*3)*L12 -> 2782500 | AL12: =AA12-(SUM(AB12:AJ12)) -> 15247515 | AM12: ='واريز مرحله اول'!C15 -> 15247000 | AN12: =AL12-AM12 -> 514.90109
A13: 10 | B13: سيد محسن | C13: داغياني | D13: كارگر توليد | E13: سيد محسن داغياني | F13: 31 | G13: 80 | J13: 0.3 | L13: 210 | N13: 237475 | O13: =F13*N13 -> 7361725 | P13: =(200000/31)*F13 -> 200000 | Q13: =(1100000/31)*F13 -> 1100000 | R13: =(((237475*3)*M13)/31)*F13 -> 0 | U13: =N13/7.33*G13*1.4 -> 3628540.2 | AA13: =(SUM(P13:X13))+(N13*F13)+(SUM(Y13:Z13)) -> 12290265 | AD13: =(N13/7.33)*J13 -> 9719.3042 | AF13: =(N13*F13+P13+Q13)*0.07 -> 606320.75 | AH13: =IF(AA13-X13<11500000,0,((AA13-X13)-11500000)*10%) -> 79026.525 | AI13: =((N13/440)*3)*L13 -> 340021.02 | AL13: =AA13-(SUM(AB13:AJ13)) -> 11255178 | AM13: ='واريز مرحله اول'!C16 -> 11255000 | AN13: =AL13-AM13 -> 177.64405
A14: 11 | B14: فرشته | C14: ابراهيم زاده | D14: منشي | E14: فرشته ابراهيم زاده | F14: 31 | N14: 237475 | O14: =F14*N14 -> 7361725 | P14: =(200000/31)*F14 -> 200000 | Q14: =(1100000/31)*F14 -> 1100000 | R14: =(((237475*3)*M14)/31)*F14 -> 0 | T14: 444596 | U14: =N14/7.33*G14*1.4 -> 0 | AA14: =(SUM(P14:X14))+(N14*F14)+(SUM(Y14:Z14)) -> 9106321 | AD14: =(N14/7.33)*J14 -> 0 | AF14: =(N14*F14+P14+Q14)*0.07 -> 606320.75 | AH14: =IF(AA14-X14<11500000,0,((AA14-X14)-11500000)*10%) -> 0 | AL14: =AA14-(SUM(AB14:AJ14)) -> 8500000.2 | AM14: ='واريز مرحله اول'!C17 -> 8500000 | AN14: =AL14-AM14 -> 0.25
A15: 12 | B15: اميد | C15: فروزانفر | D15: واحد فروش | E15: اميدفروزانفر | F15: 31 | N15: 237475 | O15: =F15*N15 -> 7361725 | P15: =(200000/31)*F15 -> 200000 | Q15: =(1100000/31)*F15 -> 1100000 | R15: =(((237475*3)*M15)/31)*F15 -> 0 | S15: =2*N15*K15 -> 0 | T15: 3338275 | U15: =N15/7.33*G15*1.4 -> 0 | AA15: =(SUM(P15:X15))+(N15*F15)+(SUM(Y15:Z15))+AF15 -> 12606321 | AD15: =(N15/7.33)*J15 -> 0 | AE15: 2000000 | AF15: =(N15*F15+P15+Q15)*0.07 -> 606320.75 | AL15: =AA15-(SUM(AB15:AJ15)) -> 10000000 | AM15: ='واريز مرحله اول'!C18 -> 10000000 | AN15: =AL15-AM15 -> 0
A16: 13 | B16: حامد | C16: برزويي | D16: خط توليد | E16: حامد برزويي | F16: 31 | G16: 2 | J16: 1.5 | L16: 60 | N16: 237475 | O16: =F16*N16 -> 7361725 | P16: =(200000/31)*F16 -> 200000 | Q16: =(1100000/31)*F16 -> 1100000 | R16: =(((237475*3)*M16)/31)*F16 -> 0 | S16: =2*N16*K16 -> 0 | T16: =(5838275/31)*F16 -> 5838275 | U16: =N16/7.33*G16*1.4 -> 90713.506 | AA16: =(SUM(P16:X16))+(N16*F16)+(SUM(Y16:Z16)) -> 14590714 | AC16: 0 | AD16: =(N16/7.33)*J16 -> 48596.521 | AE16: 7000000 | AF16: =(N16*F16+P16+Q16)*0.07 -> 606320.75 | AI16: =((N16/440)*3)*L16 -> 97148.864 | AL16: =AA16-(SUM(AB16:AJ16)) -> 6838647.4 | AM16: ='واريز مرحله اول'!C19 -> 0 | AN16: =AL16-AM16 -> 6838647.4
A17: 14 | B17: حسن | C17: قرباني | D17: خط توليد | E17: حسن قرباني | F17: 31 | N17: 237475 | O17: =F17*N17 -> 7361725 | P17: =(200000/31)*F17 -> 200000 | Q17: =(1100000/31)*F17 -> 1100000 | R17: =(((237475*3)*M17)/31)*F17 -> 0 | S17: =2*N17*K17 -> 0 | T17: =(944596/31)*F17 -> 944596 | U17: =N17/7.33*G17*1.4 -> 0 | AA17: =(SUM(P17:X17))+(N17*F17)+(SUM(Y17:Z17)) -> 9606321 | AD17: =(N17/7.33)*J17 -> 0 | AE17: 0 | AF17: =(N17*F17+P17+Q17)*0.07 -> 606320.75 | AH17: =IF(AA17-X17<11500000,0,((AA17-X17)-11500000)*10%) -> 0 | AI17: =((N17/440)*3)*L17 -> 0 | AL17: =AA17-(SUM(AB17:AJ17)) -> 9000000.2 | AM17: ='واريز مرحله اول'!C20 -> 9000000 | AN17: =AL17-AM17 -> 0.25
A18: 15 | B18: جلال | C18: درگاهي | D18: خط توليد | E18: جلال درگاهي | F18: 31 | G18: 31.5 | J18: 0.5 | M18: 2 | N18: 237475 | O18: =F18*N18 -> 7361725 | P18: =(200000/31)*F18 -> 200000 | Q18: =(1100000/31)*F18 -> 1100000 | R18: =(((N18*3)*M18)/31)*F18 -> 1424850 | S18: =2*N18*K18 -> 0 | U18: =N18/7.33*G18*1.4 -> 1428737.7 | AA18: =(SUM(P18:X18))+(N18*F18)+(SUM(Y18:Z18)) -> 11515313 | AD18: =(N18/7.33)*J18 -> 16198.84 | AE18: 5000000 | AF18: =(N18*F18+P18+Q18)*0.07 -> 606320.75 | AH18: =IF(AA18-X18<11500000,0,((AA18-X18)-11500000)*10%) -> 1531.2722 | AI18: =((N18/440)*3)*L18 -> 0 | AL18: =AA18-(SUM(AB18:AJ18)) -> 5891261.9 | AM18: ='واريز مرحله اول'!C21 -> 0 | AN18: =AL18-AM18 -> 5891261.9
A19: 16 | B19: داود | C19: قوامي كيا | D19: خط توليد | E19: داود قوامي كيا | F19: 31 | M19: 2 | N19: 237475 | O19: =F19*N19 -> 7361725 | P19: =(200000/31)*F19 -> 200000 | Q19: =(1100000/31)*F19 -> 1100000 | R19: =(((N19*3)*M19)/31)*F19 -> 1424850 | S19: =2*N19*K19 -> 0 | U19: =N19/7.33*G19*1.4 -> 0 | AA19: =(SUM(P19:X19))+(N19*F19)+(SUM(Y19:Z19)) -> 10086575 | AD19: =(N19/7.33)*J19 -> 0 | AF19: =(N19*F19+P19+Q19)*0.07 -> 606320.75 | AH19: =IF(AA19-X19<11500000,0,((AA19-X19)-11500000)*10%) -> 0 | AI19: =((N19/440)*3)*L19 -> 0 | AJ19: 2000000 | AK19: 13000000 | AL19: =AA19-(SUM(AB19:AJ19)) -> 7480254.2 | AM19: ='واريز مرحله اول'!C22 -> 7480000 | AN19: =AL19-AM19 -> 254.25
A20: 17 | B20: مرتضي | C20: اميري نژاد | D20: خط توليد | E20: مرتضي اميري نژاد | F20: 31 | G20: 81 | J20: 0.5 | N20: 237475 | O20: =F20*N20 -> 7361725 | P20: =(200000/31)*F20 -> 200000 | Q20: =(1100000/31)*F20 -> 1100000 | R20: =(((N20*3)*M20)/31)*F20 -> 0 | S20: =2*N20*K20 -> 0 | U20: =N20/7.33*G20*1.4 -> 3673897 | X20: =320000+1300000 -> 1620000 | AA20: =(SUM(P20:X20))+(N20*F20)+(SUM(Y20:Z20)) -> 13955622 | AD20: =(N20/7.33)*J20 -> 16198.84 | AF20: =(N20*F20+P20+Q20)*0.07 -> 606320.75 | AH20: =IF(AA20-X20<11500000,0,((AA20-X20)-11500000)*10%) -> 83562.2 | AI20: =((N20/440)*3)*L20 -> 0 | AL20: =AA20-(SUM(AB20:AJ20)) -> 13249540 | AM20: ='واريز مرحله اول'!C23 -> 13249000 | AN20: =AL20-AM20 -> 540.20839
A21: 18 | B21: مهراب | C21: صالحي | D21: انبار دار | E21: =B21&C21 -> مهراب صالحي | F21: 31 | G21: 10.5 | J21: 0 | L21: 90 | N21: 237475 | O21: =F21*N21 -> 7361725 | P21: =(200000/31)*F21 -> 200000 | Q21: =(1100000/31)*F21 -> 1100000 | R21: =(((N21*3)*M21)/31)*F21 -> 0 | S21: =2*N21*K21 -> 0 | U21: =N21/7.33*G21*1.4 -> 476245.91 | AA21: =(SUM(P21:X21))+(N21*F21)+(SUM(Y21:Z21)) -> 9137970.9 | AD21: =(N21/7.33)*J21 -> 0 | AF21: =(N21*F21+P21+Q21)*0.07 -> 606320.75 | AH21: =IF(AA21-X21<11500000,0,((AA21-X21)-11500000)*10%) -> 0 | AI21: =((N21/440)*3)*L21+55404 -> 201127.3 | AL21: =AA21-(SUM(AB21:AJ21)) -> 8330522.9 | AM21: ='واريز مرحله اول'!C24 -> 8390000 | AN21: =AL21-AM21 -> -59477.138
A22: 19 | B22: محسن | C22: عباسي | D22: خط توليد | E22: =B22&C22 -> محسن عباسي | F22: 31 | G22: 52.8 | J22: 0.8 | L22: 135 | N22: 237475 | O22: =F22*N22 -> 7361725 | P22: =(200000/31)*F22 -> 200000 | Q22: =(1100000/31)*F22 -> 1100000 | R22: =(((N22*3)*M22)/31)*F22 -> 0 | S22: =2*N22*K22 -> 0 | U22: =N22/7.33*G22*1.4 -> 2394836.6 | X22: 1400000 | AA22: =(SUM(P22:X22))+(N22*F22)+(SUM(Y22:Z22)) -> 12456562 | AD22: =(N22/7.33)*J22 -> 25918.145 | AH22: =IF(AA22-X22<11500000,0,((AA22-X22)-11500000)*10%) -> 0 | AI22: =((N22/440)*3)*L22 -> 218584.94 | AL22: =AA22-(SUM(AB22:AJ22)) -> 12212058 | AM22: ='واريز مرحله اول'!C25 -> 12210000 | AN22: =AL22-AM22 -> 2058.4743
A23: 20 | B23: محرم | C23: جعفري | D23: خط توليد | E23: =B23&C23 -> محرم جعفري | F23: 31 | G23: 67.8 | J23: 0.8 | N23: 237475 | O23: =F23*N23 -> 7361725 | P23: =(200000/31)*F23 -> 200000 | Q23: =(1100000/31)*F23 -> 1100000 | R23: =(((N23*3)*M23)/31)*F23 -> 0 | S23: =2*N23*K23 -> 0 | U23: =N23/7.33*G23*1.4 -> 3075187.9 | AA23: =(SUM(P23:X23))+(N23*F23)+(SUM(Y23:Z23)) -> 11736913 | AD23: =(N23/7.33)*J23 -> 25918.145 | AE23: 700000 | AH23: =IF(AA23-X23<11500000,0,((AA23-X23)-11500000)*10%) -> 23691.286 | AI23: =((N23/440)*3)*L23 -> 0 | AL23: =AA23-(SUM(AB23:AJ23)) -> 10987303 | AM23: ='واريز مرحله اول'!C26 -> 10987000 | AN23: =AL23-AM23 -> 303.42769
A24: 21 | B24: محرم | C24: جعفري | D24: خط توليد | E24: اميرحسين فروزانفر | F24: 31 | N24: 237475 | O24: =F24*N24 -> 7361725 | P24: =(200000/31)*F24 -> 200000 | Q24: =(1100000/31)*F24 -> 1100000 | R24: =(((N24*3)*M24)/31)*F24 -> 0 | S24: =2*N24*K24 -> 0 | U24: =N24/7.33*G24*1.4 -> 0 | AA24: =(SUM(P24:X24))+(N24*F24)+(SUM(Y24:Z24)) -> 8661725 | AD24: =(N24/7.33)*J24 -> 0 | AH24: =IF(AA24-X24<11500000,0,((AA24-X24)-11500000)*10%) -> 0 | AI24: 661725 | AL24: =AA24-(SUM(AB24:AJ24)) -> 8000000 | AM24: ='واريز مرحله اول'!C27 -> 8000000 | AN24: =AL24-AM24 -> 0
A25: جمع کل | F25: =SUBTOTAL(9,F4:F24) -> 651 | G25: =SUBTOTAL(9,G4:G24) -> 548.6 | H25: =SUBTOTAL(9,H4:H24) -> 0 | I25: =SUBTOTAL(9,I4:I24) -> 0 | J25: =SUBTOTAL(9,J4:J24) -> 9.4 | K25: =SUBTOTAL(9,K4:K24) -> 0 | L25: =SUBTOTAL(9,L4:L24) -> 1825 | M25: =SUBTOTAL(9,M4:M24) -> 9 | ... AN25: =SUBTOTAL(9,AN4:AN24) -> 53893657

Sheet واريز مرحله اول
A4: ليت وجوه انتقالي اينترنتي حقوق پرسنل شركت تير 1394 علي الحساب
A6: طي شناسه پيگيري | B6: مانده حقوق | C6: ميلغ واريزي | D6: پرداختي طي علي الحساب | E6: مبلغ حقوق | F6: شماره حساب | G6: نام و نام خانوادگي | H6: رديف
B7: =E7-C7 -> 2198280.2 | C7: 25000000 | E7: =SUMIF(مرداد!E4:E24,G7,مرداد!AL4:AL24) -> 27198280 | G7: =مرداد!E4 -> سعید فروزانفر | H7: 1
B8: =E8-C8 -> 0.25 | C8: 40000000 | E8: =SUMIF(مرداد!E5:E25,G8,مرداد!AL5:AL25) -> 40000000 | G8: =مرداد!E5 -> وحید فروزانفر | H8: 2
B9: =E9-C9 -> 40000000 | E9: =SUMIF(مرداد!E6:E26,G9,مرداد!AL6:AL26) -> 40000000 | G9: =مرداد!E6 -> رضا فروزانفر | H9: 3
B10: =E10-C10 -> 6759.7996 | C10: 1200000 | E10: =SUMIF(مرداد!E7:E27,G10,مرداد!AL7:AL27) -> 1206759.8 | G10: =مرداد!E7 -> روح الله نوروزیان | H10: 4
B11: =E11-C11 -> -987291.57 | C11: 13230000 | E11: =SUMIF(مرداد!E8:E28,G11,مرداد!AL8:AL28) -> 12242708 | G11: =مرداد!E8 -> مهدی شمشیری | H11: 5
B12: =E12-C12 -> 1626.4437 | C12: 12750000 | E12: =SUMIF(مرداد!E9:E29,G12,مرداد!AL9:AL29) -> 12751626 | G12: =مرداد!E9 -> محسن شيشه چي | H12: 6
B13: =E13-C13 -> 0.25 | C13: 15000000 | E13: =SUMIF(مرداد!E10:E30,G13,مرداد!AL10:AL30) -> 15000000 | G13: =مرداد!E10 -> مجتبي منبتي | H13: 7
B14: =E14-C14 -> 0.25 | C14: 6500000 | E14: =SUMIF(مرداد!E11:E31,G14,مرداد!AL11:AL31) -> 6500000.2 | G14: =مرداد!E11 -> مريم محسني | H14: 8
B15: =E15-C15 -> 514.90109 | C15: =6772000+8475000 -> 15247000 | E15: =SUMIF(مرداد!E12:E32,G15,مرداد!AL12:AL32) -> 15247515 | G15: =مرداد!E12 -> علي غلام زاده | H15: 9
B16: =E16-C16 -> 177.64405 | C16: 11255000 | E16: =SUMIF(مرداد!E13:E33,G16,مرداد!AL13:AL33) -> 11255178 | G16: =مرداد!E13 -> سيد محسن داغياني | H16: 10
B17: =E17-C17 -> 0.25 | C17: 8500000 | E17: =SUMIF(مرداد!E14:E34,G17,مرداد!AL14:AL34) -> 8500000.2 | G17: =مرداد!E14 -> فرشته ابراهيم زاده | H17: 11
B18: =E18-C18 -> 0 | C18: 10000000 | E18: =SUMIF(مرداد!E15:E35,G18,مرداد!AL15:AL35) -> 10000000 | G18: =مرداد!E15 -> اميدفروزانفر | H18: 12
B19: =E19-C19 -> 6838647.4 | E19: =SUMIF(مرداد!E16:E36,G19,مرداد!AL16:AL36) -> 6838647.4 | G19: =مرداد!E16 -> حامد برزويي | H19: 13
B20: =E20-C20 -> 0.25 | C20: 9000000 | E20: =SUMIF(مرداد!E17:E37,G20,مرداد!AL17:AL37) -> 9000000.2 | G20: =مرداد!E17 -> حسن قرباني | H20: 14
B21: =E21-C21 -> 5891261.9 | E21: =SUMIF(مرداد!E18:E38,G21,مرداد!AL18:AL38) -> 5891261.9 | G21: =مرداد!E18 -> جلال درگاهي | H21: 15
B22: =E22-C22 -> 254.25 | C22: 7480000 | E22: =SUMIF(مرداد!E19:E39,G22,مرداد!AL19:AL39) -> 7480254.2 | G22: =مرداد!E19 -> داود قوامي كيا | H22: 16
B23: =E23-C23 -> 540.20839 | C23: =1539000+11710000 -> 13249000 | E23: =SUMIF(مرداد!E20:E40,G23,مرداد!AL20:AL40) -> 13249540 | G23: =مرداد!E20 -> مرتضي اميري نژاد | H23: 17
B24: =E24-C24 -> -59477.138 | C24: 8390000 | E24: =SUMIF(مرداد!E21:E41,G24,مرداد!AL21:AL41) -> 8330522.9 | G24: =مرداد!E21 -> مهراب صالحي | H24: 18
B25: =E25-C25 -> 2058.4743 | C25: 12210000 | E25: =SUMIF(مرداد!E22:E42,G25,مرداد!AL22:AL42) -> 12212058 | G25: =مرداد!E22 -> محسن عباسي | H25: 19
B26: =E26-C26 -> 303.42769 | C26: 10987000 | E26: =SUMIF(مرداد!E23:E43,G26,مرداد!AL23:AL43) -> 10987303 | G26: =مرداد!E23 -> محرم جعفري | H26: 20
B27: =E27-C27 -> 0 | C27: 8000000 | E27: =SUMIF(مرداد!E24:E44,G27,مرداد!AL24:AL44) -> 8000000 | G27: =مرداد!E24 -> اميرحسين فروزانفر
B28: =E28-C28 -> 0 | E28: =SUMIF(مرداد!E25:E45,G28,مرداد!AL25:AL45) -> 0 | G28: حميدرضا نسطورپور | H28: 21
C29: =SUBTOTAL(9,C7:C28) -> 227998000 | D29: =SUBTOTAL(9,D7:D28) -> 0 | E29: =SUBTOTAL(9,E7:E28) -> 2.8189166e+08 | F29: جمع كل
J31: =SUM(C29:D29) -> 227998000
B32: مديريت | F32: امورمالي | J32: 166331467
J33: 4654407

Sheet Sheet1
C2: فيش حقوقي : | D2: فیش حقوقی | I2: =مرداد!E4 -> سعید فروزانفر | J2: نا م و نام خانوادگي : | O2: نام و نام خاانوادگي
B3: اداری | C3: نام واحد : | J3: شماره حساب : | O3: جلال درگاهي
B4: جهت اطلاع | E4: =مرداد!AB4 -> 0 | F4: بدهی از ماه قبل | G4: =IFERROR(DGET(مرداد!$E$3:$AL$24,مرداد!O7,$O$2:$O$3),0) -> 0 | H4: حقوق ماهيانه | I4: =IFERROR(DGET(مرداد!$E$3:$AL$24,مرداد!$F$3,$O$2:$O$3),0) -> 31 | J4: روزهاي كاركرد
B5: =G16 -> 1300000 | D5: =H16 -> جمع حقوق و مزايا به ریال | E5: =مرداد!AC4 -> 0 | F5: کسر از حقوق برای نهار | G5: =IFERROR(DGET(مرداد!$E$3:$AL$24,مرداد!P3,$O$2:$O$3),0) -> 200000 | H5: حق مسكن | I5: =IFERROR(DGET(مرداد!$E$3:$AL$24,مرداد!G3,$O$2:$O$3),0) -> 31.5 | J5: اضافه كار به دقيقه
B6: =E16 -> 13408041 | D6: =F16 -> جمع كسورات به ریال | E6: =مرداد!AD4 -> 0 | F6: كسر كار | G6: =IFERROR(DGET(مرداد!$E$3:$AL$24,مرداد!Q3,$O$2:$O$3),0) -> 1100000 | H6: حق بن | I6: =IFERROR(DGET(مرداد!$E$3:$AL$24,مرداد!J3,$O$2:$O$3),0) -> 0.5 | J6: كسر كار به دقيقه | K6: =(G4+G6+G7+G8)-10000000 -> -8900000 | L6: =IF(K6<=0,0,K6) -> 0
B7: =B5-B6 -> -12108041 | D7: مانده | E7: =مرداد!AE4 -> 12801720 | F7: مساعده | G7: =IFERROR(DGET(مرداد!$E$3:$AL$24,مرداد!R7,$O$2:$O$3),0) -> 0 | H7: حق اولاد | I7: =IFERROR(DGET(مرداد!$E$3:$AL$24,مرداد!L3,$O$2:$O$3),0) -> 0 | J7: غيبت به دقيقه | L7: =L6*0.1 -> 0
B8: ='واريز مرحله اول'!C7 -> 25000000 | D8: مبلغ واريزي | E8: =مرداد!AF4 -> 606320.75 | F8: بيمه سهم كارگر | G8: =IFERROR(DGET(مرداد!$E$3:$AL$24,مرداد!U7,$O$2:$O$3),0) -> 0 | H8: اضافه كار | I8: =IFERROR(DGET(مرداد!$E$3:$AL$24,مرداد!M3,$O$2:$O$3),0) -> 2 | J8: تعداد فرزند
E9: =I7*I10 -> 0 | F9: کسر کار | G9: =IFERROR(DGET(مرداد!$E$3:$AL$24,مرداد!U8,$O$2:$O$3),0) -> 0
E10: =مرداد!AH4 -> 0 | F10: ماليات حقوق | G10: =IFERROR(DGET(مرداد!$E$3:$AL$24,مرداد!T3,$O$2:$O$3),0) -> 0 | H10: ساير مزايا | I10: =مرداد!N4 -> 237475 | J10: حقوق پایه روزانه
E11: =مرداد!AI4 -> 0 | F11: غيبت
E12: =مرداد!AJ4 -> 0 | F12: كسر بابت اقساط وام
E15: 0 | F15: ساير كسورات | G15: =مرداد!X4 -> 0 | H15: طلب حقوق از ماه قبل
B16: =B7-B8 -> -37108041 | C16: جمع قابل پرداخت به ریال | E16: =SUM(E4:E15) -> 13408041 | F16: جمع كسورات به ریال | G16: =SUM(G4:G15) -> 1300000 | H16: جمع حقوق و مزايا به ریال
I18: =DGET(مرداد!E3:AL24,2,O2:O3) -> 31
